BEGIN:VCALENDAR
VERSION:2.0
PRODID:-//103.27.35.28//NONSGML kigkonsult.se iCalcreator 2.26.9//
CALSCALE:GREGORIAN
METHOD:PUBLISH
X-WR-CALNAME:St Nicholas of Myra Penrith
X-WR-CALDESC:A Parish of the Diocese of Parramatta
X-FROM-URL:https://stnicholasofmyra.org.au
X-WR-TIMEZONE:Australia/Sydney
BEGIN:VTIMEZONE
TZID:Australia/Sydney
X-LIC-LOCATION:Australia/Sydney
BEGIN:STANDARD
DTSTART:20210404T030000
TZOFFSETFROM:+1100
TZOFFSETTO:+1000
RDATE:20220403T030000
TZNAME:AEST
END:STANDARD
BEGIN:DAYLIGHT
DTSTART:20201004T020000
TZOFFSETFROM:+1000
TZOFFSETTO:+1100
RDATE:20211003T020000
TZNAME:AEDT
END:DAYLIGHT
END:VTIMEZONE
BEGIN:VEVENT
UID:ai1ec-3166@parish.parracatholic.org/stnicholasofmyrapenrith
DTSTAMP:20210301T010526Z
CATEGORIES:
CONTACT:
DESCRIPTION:
DTSTART;TZID=Australia/Sydney:20180306T110000
GEO:-33.752669;+150.70943
LOCATION:Edenglassie Lodge (Lemongrove) @ 40 Village Cres\, Penrith NSW 275
 0\, Australia
RRULE:FREQ=MONTHLY;BYDAY=1TU
SEQUENCE:0
SUMMARY:Anointing Mass
URL:https://stnicholasofmyra.org.au/event/anointing-mass-9/
X-COST-TYPE:free
X-INSTANT-EVENT:1
END:VEVENT
END:VCALENDAR
