BEGIN:VCALENDAR
VERSION:2.0
PRODID:-//103.27.35.28//NONSGML kigkonsult.se iCalcreator 2.26.9//
CALSCALE:GREGORIAN
METHOD:PUBLISH
X-WR-CALNAME:St Nicholas of Myra Penrith
X-WR-CALDESC:A Parish of the Diocese of Parramatta
X-FROM-URL:https://stnicholasofmyra.org.au
X-WR-TIMEZONE:Australia/Sydney
BEGIN:VTIMEZONE
TZID:Australia/Sydney
X-LIC-LOCATION:Australia/Sydney
BEGIN:STANDARD
DTSTART:20210404T030000
TZOFFSETFROM:+1100
TZOFFSETTO:+1000
RDATE:20220403T030000
TZNAME:AEST
END:STANDARD
BEGIN:DAYLIGHT
DTSTART:20201004T020000
TZOFFSETFROM:+1000
TZOFFSETTO:+1100
RDATE:20211003T020000
TZNAME:AEDT
END:DAYLIGHT
END:VTIMEZONE
BEGIN:VEVENT
UID:ai1ec-3139@parish.parracatholic.org/stnicholasofmyrapenrith
DTSTAMP:20210301T005644Z
CATEGORIES:
CONTACT:
DESCRIPTION:(followed by Novena Our Lady of Perpetual Help)
DTSTART;TZID=Australia/Sydney:20180307T190000
GEO:-33.754625;+150.700628
LOCATION:St Nicholas of Myra Parish @ 326 High St\, Penrith NSW 2750\, Aust
 ralia
RRULE:FREQ=WEEKLY;BYDAY=WE;WKST=MO
SEQUENCE:0
SUMMARY:Weekday Mass
URL:https://stnicholasofmyra.org.au/event/weekday-mass-11/
X-COST-TYPE:free
X-ALT-DESC;FMTTYPE=text/html:<!DOCTYPE HTML PUBLIC '-//W3C//DTD HTML 3.2//E
 N'>\\n<HTML>\\n<HEAD>\\n<TITLE></TITLE>\\n</HEAD>\\n<BODY><p>(followed by 
 Novena Our Lady of Perpetual Help)</p>\n</BODY></HTML>
X-INSTANT-EVENT:1
END:VEVENT
END:VCALENDAR
